BEGIN:VCALENDAR
VERSION:2.0
PRODID:-//Tukios.com/
BEGIN:VEVENT
UID:2f5f93e1-d9ca-4937-b090-c0ac33053b0a@www.lincolnfh.net
DTSTAMP:20260425T030126Z
DTSTART:20260501T170000Z
DTEND:20260501T173000Z
SUMMARY:Burial
DESCRIPTION:
URL:https://www.lincolnfh.net/obituaries/reta-whitmill
LOCATION: 8100 Fireside Dr  Dallas TX 75217
GEO:32.6973531;-96.6820516
END:VEVENT
END:VCALENDAR