BEGIN:VCALENDAR
VERSION:2.0
PRODID:-//Tukios.com/
BEGIN:VEVENT
UID:4eb7a25a-71be-4389-8192-b5948ca97b3f@www.lincolnfh.net
DTSTAMP:20260425T030126Z
DTSTART:20260430T200000Z
DTEND:20260501T000000Z
SUMMARY:Visitation
DESCRIPTION:
URL:https://www.lincolnfh.net/obituaries/reta-whitmill
LOCATION: 8100 Fireside Dr  Dallas TX 75217
GEO:32.6973531;-96.6820516
END:VEVENT
END:VCALENDAR