BEGIN:VCALENDAR
VERSION:2.0
PRODID:-//Tukios.com/
BEGIN:VEVENT
UID:a2717314-7798-4d2e-9315-8821845594a0@www.lincolnfh.net
DTSTAMP:20260422T225151Z
DTSTART:20260425T180000Z
DTEND:20260425T181500Z
SUMMARY:Burial
DESCRIPTION:
URL:https://www.lincolnfh.net/obituaries/lorine-polk
LOCATION: 1311 Murdock Rd  Dallas TX 75217
GEO:32.6946967;-96.6845297
END:VEVENT
END:VCALENDAR