BEGIN:VCALENDAR
VERSION:2.0
PRODID:-//Tukios.com/
BEGIN:VEVENT
UID:47d47e79-c0d6-4a26-aad8-9e4b67799c27@www.lincolnfh.net
DTSTAMP:20260422T224459Z
DTSTART:20260425T160000Z
DTEND:20260425T174500Z
SUMMARY:Funeral Service
DESCRIPTION:
URL:https://www.lincolnfh.net/obituaries/lorine-polk
LOCATION: 8100 Fireside Dr  Dallas TX 75217
GEO:32.6973531;-96.6820516
END:VEVENT
END:VCALENDAR